BEGIN:VCALENDAR
VERSION:2.0
CALSCALE:GREGORIAN
PRODID:adamgibbons/ics
METHOD:PUBLISH
X-PUBLISHED-TTL:PT1H
BEGIN:VEVENT
UID:599@agenda.rouen-luttes.org
SUMMARY:Alternatiba au Bar de la BASE
DTSTAMP:20260425T000242Z
DTSTART:20260522T160000Z
DTEND:20260522T200000Z
DESCRIPTION:👉 Événements festifs\, ateliers et actions concrètes pour const
	ruire un futur\nplus juste et écologique ✊
URL:https://agenda.rouen-luttes.org/event/alternatiba-au-bar-de-la-base-12
GEO:49.4334567;1.082281
LOCATION:La BASE - 5 rue Geuffroy\, Rouen
STATUS:CONFIRMED
CATEGORIES:Buvette,Alternatiba,Bar
X-ALT-DESC;FMTTYPE=text/html:<p>👉 Événements festifs, ateliers et actions c
	oncrètes pour construire un futur plus juste et écologique ✊</p>
BEGIN:VALARM
ACTION:DISPLAY
DESCRIPTION:Alternatiba au Bar de la BASE
TRIGGER:-PT1H
END:VALARM
END:VEVENT
END:VCALENDAR
