BEGIN:VCALENDAR
VERSION:2.0
CALSCALE:GREGORIAN
PRODID:adamgibbons/ics
METHOD:PUBLISH
X-PUBLISHED-TTL:PT1H
BEGIN:VEVENT
UID:598@agenda.rouen-luttes.org
SUMMARY:Les Amis de la Terre au Bar de la BASE
DTSTAMP:20260424T153901Z
DTSTART:20260528T163000Z
DTEND:20260528T200000Z
DESCRIPTION:👉 Rencontre conviviale autour d’un verre pour découvrir le grou
	pe local et ses\nengagements 🌍
URL:https://agenda.rouen-luttes.org/event/les-amis-de-la-terre-au-bar-de-la
	-base-12
GEO:49.4334567;1.082281
LOCATION:La BASE - 5 rue Geuffroy\, Rouen
STATUS:CONFIRMED
CATEGORIES:Bar,Écologie,Buvette
X-ALT-DESC;FMTTYPE=text/html:<p>👉 Rencontre conviviale autour d’un verre po
	ur découvrir le groupe local et ses engagements 🌍</p>
BEGIN:VALARM
ACTION:DISPLAY
DESCRIPTION:Les Amis de la Terre au Bar de la BASE
TRIGGER:-PT1H
END:VALARM
END:VEVENT
END:VCALENDAR
